BEGIN:VCALENDAR
VERSION:2.0
PRODID:
BEGIN:VEVENT
UID:362782imp
DTSTAMP:20260423T003219Z
DTSTART:20261130T150000Z
DTEND:20261130T230000Z
SUMMARY: Avoiding the Most Misapplied Audit Concepts
DESCRIPTION: Recent new auditing standards are designed to improve overall audit quality.  The course will address the most common misapplied audit concepts in planning and performing effective and efficient financial statement audits.


This event may be a rebroadcast of a live event and the instructor will be available to answer your questions during the event.This course is being offered by a learning partner and will not be accessible on your My CPE page. Access information will be emailed directly to you by CPA Crossings\n 
CLASS:PUBLIC
END:VEVENT
END:VCALENDAR
