BEGIN:VCALENDAR
VERSION:2.0
PRODID:
BEGIN:VEVENT
UID:362778imp
DTSTAMP:20260421T201109Z
DTSTART:20261130T140000Z
DTEND:20261130T180000Z
SUMMARY: Forensic Accounting: Finding Hidden Treasure in Tax Returns
DESCRIPTION: Almost every business and individual has to file tax returns\, which can be a great treasure trove of information for forensic accountants. Whether in a divorce\, partnership dispute\, recreating books and records\, or bankruptcy proceeding\, analyzing tax return information should be an initial step in uncovering income and assets. The IRS retains a large amount of information\, both from taxpayers and 3rd parties who report financial transactions. This course will be your guide in gathering\, analyzing\, and evaluating tax return information\, so that you have a full picture of the financial investigation. Your presenter is a 20 year veteran with IRS-Criminal Investigation\, who used this information as a basis for his federal criminal investigations.

This event may be a rebroadcast of a live event and the instructor will be available to answer your questions during the event.This course is being offered by a learning partner and will not be accessible on your My CPE page. Access information will be emailed directly to you by CPA Crossings\n 
CLASS:PUBLIC
END:VEVENT
END:VCALENDAR
