BEGIN:VCALENDAR
VERSION:2.0
PRODID:
BEGIN:VEVENT
UID:362775imp
DTSTAMP:20260423T003625Z
DTSTART:20261128T173000Z
DTEND:20261128T183000Z
SUMMARY: Volume to Value: A New Era of Precision Hiring in Accounting
DESCRIPTION: Volume to Value: A New Era of Precision Hiring in Accounting examines how accounting firms are shifting from high-volume recruiting models to "precision hiring" as AI adoption accelerates and talent scarcity continues. Participants will explore why traditional hiring processes often overemphasize technical accounting knowledge while under-assessing the competencies that most impact performance-critical thinking\, professional communication\, and AI ethics awareness. The course explains how AI-enabled recruiting tools can support candidate screening\, assessment\, and retention forecasting\, and why firms that do not modernize their hiring approach may struggle to compete for top talent. Participants will leave with practical approaches to competency-based assessment\, ethical guardrails for AI use in hiring\, and a high-level implementation roadmap with metrics to evaluate quality of hire\, performance\, and retention.

This event may be a rebroadcast of a live event and the instructor will be available to answer your questions during the event.This course is being offered by a learning partner and will not be accessible on your My CPE page. Access information will be emailed directly to you by CPA Crossings\n 
CLASS:PUBLIC
END:VEVENT
END:VCALENDAR
