BEGIN:VCALENDAR
VERSION:2.0
PRODID:
BEGIN:VEVENT
UID:362762imp
DTSTAMP:20260422T022844Z
DTSTART:20261128T140000Z
DTEND:20261128T160000Z
SUMMARY: Self-Rental Real Estate: Passive Activity & Section 199A
DESCRIPTION: This program presents a detailed analysis of the self-rental passive activity rules\, including forms reporting examples and integrates them with the flow-through entity rules related to self-rental.

This event may be a rebroadcast of a live event and the instructor will be available to answer your questions during the event.This course is being offered by a learning partner and will not be accessible on your My CPE page. Access information will be emailed directly to you by CPA Crossings\n 
CLASS:PUBLIC
END:VEVENT
END:VCALENDAR
