BEGIN:VCALENDAR
VERSION:2.0
PRODID:
BEGIN:VEVENT
UID:362727imp
DTSTAMP:20260423T091641Z
DTSTART:20261125T180000Z
DTEND:20261125T190000Z
SUMMARY: Tax Implications of Retirement Plan Distributions
DESCRIPTION: This session will address the complex rules of retirement distributions\, review key provisions of the SECURE Act 2.0\, and provide practical strategies of maximizing tax benefits for your client.

This event may be a rebroadcast of a live event and the instructor will be available to answer your questions during the event.This course is being offered by a learning partner and will not be accessible on your My CPE page. Access information will be emailed directly to you by CPA Crossings\n 
CLASS:PUBLIC
END:VEVENT
END:VCALENDAR
