BEGIN:VCALENDAR
VERSION:2.0
PRODID:
BEGIN:VEVENT
UID:362699imp
DTSTAMP:20260423T022358Z
DTSTART:20261124T163000Z
DTEND:20261124T183000Z
SUMMARY: Entertainment\, Meals & Travel Expenses: Review and Update
DESCRIPTION: This program reviews the statutory and regulatory guidance as they relate to fringe benefits. There will be an emphasis on entertainment\, meals and business transportation expenses\, including qualified employer-provided parking\, with a focus on planning opportunities. Recent federal tax legislation\, cases and rulings will also be addressed.

This event may be a rebroadcast of a live event and the instructor will be available to answer your questions during the event.This course is being offered by a learning partner and will not be accessible on your My CPE page. Access information will be emailed directly to you by CPA Crossings\n 
CLASS:PUBLIC
END:VEVENT
END:VCALENDAR
