BEGIN:VCALENDAR
VERSION:2.0
PRODID:
BEGIN:VEVENT
UID:362646imp
DTSTAMP:20260422T074254Z
DTSTART:20261121T140000Z
DTEND:20261121T160000Z
SUMMARY: Shortcuts that Excel Users Love
DESCRIPTION: Many people that use Microsoft Excel know a great deal about the functionality of the application. There are\, however\, a tremendous number of hidden tools that a high percentage of users overlook. Additionally\, there are newer features that some have not had the opportunity to explore. This session shows some of the numerous time-saving tools and features that often go unused by spreadsheet creators. People that wish to become more efficient when using Excel should take this session!

This event may be a rebroadcast of a live event and the instructor will be available to answer your questions during the event.This course is being offered by a learning partner and will not be accessible on your My CPE page. Access information will be emailed directly to you by CPA Crossings\n 
CLASS:PUBLIC
END:VEVENT
END:VCALENDAR
