BEGIN:VCALENDAR
VERSION:2.0
PRODID:
BEGIN:VEVENT
UID:362635imp
DTSTAMP:20260423T045331Z
DTSTART:20261120T173000Z
DTEND:20261120T193000Z
SUMMARY: Power Skills: Professionalism and Client Interactions
DESCRIPTION: Client interactions and professionalism are at the core of what we do as accountants. However\, communication with clients is not always as straightforward as it may seem. Sometimes there will be difficult conversations and disagreements that can be tough to navigate. During this course\, we will discuss best practices when communicating with the client and also walk through complicated scenarios to practice what we learn.

This event may be a rebroadcast of a live event and the instructor will be available to answer your questions during the event.This course is being offered by a learning partner and will not be accessible on your My CPE page. Access information will be emailed directly to you by CPA Crossings\n 
CLASS:PUBLIC
END:VEVENT
END:VCALENDAR
