BEGIN:VCALENDAR
VERSION:2.0
PRODID:
BEGIN:VEVENT
UID:362626imp
DTSTAMP:20260422T222058Z
DTSTART:20261120T143000Z
DTEND:20261120T163000Z
SUMMARY: Microsoft 365 for CPAs: Unlocking Hidden Productivity Tools
DESCRIPTION: Microsoft 365 is likely the most underutilized software investment in your firm or business. This course will show how to tap in to many of the lesser known features of the Microsoft 365 ecosystem of apps to maximize your productivity and produce better outputs. Through a series of practical case study demonstrations you will learn how to leverage the full potential of Microsoft 365 in your organization.

This event may be a rebroadcast of a live event and the instructor will be available to answer your questions during the event.This course is being offered by a learning partner and will not be accessible on your My CPE page. Access information will be emailed directly to you by CPA Crossings\n 
CLASS:PUBLIC
END:VEVENT
END:VCALENDAR
