BEGIN:VCALENDAR
VERSION:2.0
PRODID:
BEGIN:VEVENT
UID:362616imp
DTSTAMP:20260423T190440Z
DTSTART:20261119T193000Z
DTEND:20261119T213000Z
SUMMARY: The 10 Must Know Excel Features
DESCRIPTION: Transform your Excel skills with our comprehensive training program\, designed for users at all levels seeking to master the full suite of Excel capabilities. From powerful data analysis tools like PivotTables and advanced functions such as XLOOKUP\, to the nuances of Data Validations and Conditional Formatting\, this course offers a deep dive into Excel's most impactful features. Whether you're streamlining complex data sets\, enhancing your reporting skills\, or just looking to boost your productivity\, this session provides the insights and techniques you need to leverage Excel to its fullest potential\, making it an indispensable tool in your professional or personal toolkit.

This event may be a rebroadcast of a live event and the instructor will be available to answer your questions during the event.This course is being offered by a learning partner and will not be accessible on your My CPE page. Access information will be emailed directly to you by CPA Crossings\n 
CLASS:PUBLIC
END:VEVENT
END:VCALENDAR
