BEGIN:VCALENDAR
VERSION:2.0
PRODID:
BEGIN:VEVENT
UID:362584imp
DTSTAMP:20260423T091812Z
DTSTART:20261118T150000Z
DTEND:20261118T230000Z
SUMMARY: Financial & Tax Accounting for S Corporations & Partnerships
DESCRIPTION: This program compares and contrasts the financial and tax accounting differences of partnerships\, LLCs\, and S corporations\, as well as discuss the tax accounting for these entities.

This event may be a rebroadcast of a live event and the instructor will be available to answer your questions during the event.This course is being offered by a learning partner and will not be accessible on your My CPE page. Access information will be emailed directly to you by CPA Crossings\n 
CLASS:PUBLIC
END:VEVENT
END:VCALENDAR
