BEGIN:VCALENDAR
VERSION:2.0
PRODID:
BEGIN:VEVENT
UID:362533imp
DTSTAMP:20260422T214905Z
DTSTART:20261116T150000Z
DTEND:20261116T190000Z
SUMMARY: Retaining Talent in a Competitive Marketplace
DESCRIPTION: Retaining Talent in a Competitive Marketplace -Creating a Benefits Program Employees Care About

In today's competitive marketplace\, retaining talented employees is becoming increasingly difficult. A solid benefits program can make a difference in the fight for talent - but only if those benefits matter to the employees you are trying to hire! Through statistics and case studies\, this course will explore what benefits are most valuable to employees. We will also explore the basic types of retirement and health insurance plans and discuss what financial leaders should consider before adopting a benefits package.

This event may be a rebroadcast of a live event and the instructor will be available to answer your questions during the event.This course is being offered by a learning partner and will not be accessible on your My CPE page. Access information will be emailed directly to you by CPA Crossings\n 
CLASS:PUBLIC
END:VEVENT
END:VCALENDAR
