BEGIN:VCALENDAR
VERSION:2.0
PRODID:
BEGIN:VEVENT
UID:362526imp
DTSTAMP:20260422T225422Z
DTSTART:20261116T140000Z
DTEND:20261116T160000Z
SUMMARY: Partnership/LLC Taxation: Tax Basis Capital Accounts
DESCRIPTION: This program addresses the most recent developments impacting partnerships operating as LLCs\, with a focus on legislative\, administrative\, and tax form changes.  Emphasis will be placed on partners "tax basis" capital accounts\, now required for tax form reporting.

This event may be a rebroadcast of a live event and the instructor will be available to answer your questions during the event.This course is being offered by a learning partner and will not be accessible on your My CPE page. Access information will be emailed directly to you by CPA Crossings\n 
CLASS:PUBLIC
END:VEVENT
END:VCALENDAR
