BEGIN:VCALENDAR
VERSION:2.0
PRODID:
BEGIN:VEVENT
UID:362514imp
DTSTAMP:20260423T091530Z
DTSTART:20261114T143000Z
DTEND:20261114T163000Z
SUMMARY: AI & Accounting in Construction
DESCRIPTION: This course provides a concise overview of how artificial intelligence (AI) is revolutionizing the construction industry and reshaping financial oversight\, accounting practices\, and regulatory compliance. From autonomous equipment to predictive risk analytics\, construction firms are increasingly adopting AI to enhance safety\, efficiency\, and profitability. As this transformation unfolds\, accountants and financial professionals must evolve their roles-leveraging AI for smarter budgeting\, automated compliance\, and real-time auditing. The course highlights the top 20 macro-level AI trends in construction and explores how accounting professionals can align financial systems with operational AI\, uphold audit integrity\, and prepare for emerging tax and compliance challenges.

This event may be a rebroadcast of a live event and the instructor will be available to answer your questions during the event.This course is being offered by a learning partner and will not be accessible on your My CPE page. Access information will be emailed directly to you by CPA Crossings\n 
CLASS:PUBLIC
END:VEVENT
END:VCALENDAR
