BEGIN:VCALENDAR
VERSION:2.0
PRODID:
BEGIN:VEVENT
UID:362477imp
DTSTAMP:20260422T223806Z
DTSTART:20261112T183000Z
DTEND:20261112T223000Z
SUMMARY: Coping With the Growth of Online Fraud
DESCRIPTION: Just about every company\, no matter its size or the types of activities it undertakes\, is at greater risk because of all the types of fraud that can be be carried out electronically. Potential perpetrators can be operating internally or externally and the scope of the damage that occurs is almost never limited to cyber-assets. While threat awareness is improving\, there are still too many owners or top level executives that underestimate the scale of the issue. In this session\, we delve into the types and the nature of many electronic defalcation schemes. The material then explores measures that organizations can implement to help stop these activities and add additional layers of security.

This event may be a rebroadcast of a live event and the instructor will be available to answer your questions during the event.This course is being offered by a learning partner and will not be accessible on your My CPE page. Access information will be emailed directly to you by CPA Crossings\n 
CLASS:PUBLIC
END:VEVENT
END:VCALENDAR
