BEGIN:VCALENDAR
VERSION:2.0
PRODID:
BEGIN:VEVENT
UID:362450imp
DTSTAMP:20260422T043154Z
DTSTART:20261111T183000Z
DTEND:20261111T203000Z
SUMMARY: Common Financial Statement Disclosures
DESCRIPTION: Financial statement disclosures are important to provide the information necessary for financial statement users to make economic decisions. Disclosures further explain and clarify information provided in the basic financial statements\, but also provide critical information about subsequent events\, litigation risk\, and other concerns. This course focuses on the most common financial statement disclosures for small- or medium-sized nonpublic entities.

This event may be a rebroadcast of a live event and the instructor will be available to answer your questions during the event.This course is being offered by a learning partner and will not be accessible on your My CPE page. Access information will be emailed directly to you by CPA Crossings\n 
CLASS:PUBLIC
END:VEVENT
END:VCALENDAR
