BEGIN:VCALENDAR
VERSION:2.0
PRODID:
BEGIN:VEVENT
UID:362424imp
DTSTAMP:20260424T155334Z
DTSTART:20261110T180000Z
DTEND:20261110T220000Z
SUMMARY: Deep Dive Into Common Auditing Deficiencies
DESCRIPTION: This course will review common deficiencies identified by the AICPA and state boards of accountancy. It features discussion on a variety of topics\, including analytical procedures\, sampling\, group audits and risk assessment. We will review the areas of concern and how you can overcome them by employing best practices.

This event may be a rebroadcast of a live event and the instructor will be available to answer your questions during the event.This course is being offered by a learning partner and will not be accessible on your My CPE page. Access information will be emailed directly to you by CPA Crossings\n 
CLASS:PUBLIC
END:VEVENT
END:VCALENDAR
