BEGIN:VCALENDAR
VERSION:2.0
PRODID:
BEGIN:VEVENT
UID:362363imp
DTSTAMP:20260421T231038Z
DTSTART:20261106T183000Z
DTEND:20261106T223000Z
SUMMARY: How AI Is Automating Internal Control
DESCRIPTION: The term "artificial intelligence" (AI) has become mainstream and while most have a layperson's understanding of AI\, few know the depth and breadth of this technology's capability. AI is affecting just about everything in business and in people's personal lives. The operation of an internal control system is also changing because of this incredible advancement. This session explains what AI is and how it works and then goes into detail about how it can be applied to a system of internal control. The material speaks about changes occurring in today's world as well as what's coming in the not-too-distant future.

This event may be a rebroadcast of a live event and the instructor will be available to answer your questions during the event.This course is being offered by a learning partner and will not be accessible on your My CPE page. Access information will be emailed directly to you by CPA Crossings\n 
CLASS:PUBLIC
END:VEVENT
END:VCALENDAR
