BEGIN:VCALENDAR
VERSION:2.0
PRODID:
BEGIN:VEVENT
UID:362232imp
DTSTAMP:20260423T214836Z
DTSTART:20261031T153000Z
DTEND:20261031T173000Z
SUMMARY: How to Audit Expenses & Payables
DESCRIPTION: It is imperative that audit staff understand the fundamentals of expenses & payables. This course will cover the basics of auditing expenses\, accrued liabilities\, and other payables\, including the related audit assertions\, risks\, & threats to the expenses & payables balances. During this course\, we will also highlight the various substantive auditing procedures that staff should perform\, and also walk through some real-world examples.


This event may be a rebroadcast of a live event and the instructor will be available to answer your questions during the event.This course is being offered by a learning partner and will not be accessible on your My CPE page. Access information will be emailed directly to you by CPA Crossings\n 
CLASS:PUBLIC
END:VEVENT
END:VCALENDAR
