BEGIN:VCALENDAR
VERSION:2.0
PRODID:
BEGIN:VEVENT
UID:362130imp
DTSTAMP:20260423T191457Z
DTSTART:20261027T140000Z
DTEND:20261027T220000Z
SUMMARY: Finance and Innovation: Reinvent Your Organization and Dept.
DESCRIPTION: Innovate or die is more than a catchphrase\, it is a fact. The tsunami of innovation relentlessly coming to our businesses\, teams\, markets and to accounting will not stop. Innovation is one of the most desirable traits\, but how do we innovate? We will discuss how your company can foster\, nurture\, encourage and sustain innovation - and give you an action plan. Technology has significantly changed what we do and how\, and this will not stop. What are the negative consequences of failing to innovate? To remain relevant\, we must re-think accounting's role and how our organization innovates - or not. The status quo will go - we must embrace innovation so you and your company can thrive. 

This event may be a rebroadcast of a live event and the instructor will be available to answer your questions during the event.This course is being offered by a learning partner and will not be accessible on your My CPE page. Access information will be emailed directly to you by CPA Crossings\n 
CLASS:PUBLIC
END:VEVENT
END:VCALENDAR
