BEGIN:VCALENDAR
VERSION:2.0
PRODID:
BEGIN:VEVENT
UID:362068imp
DTSTAMP:20260423T021137Z
DTSTART:20261022T193000Z
DTEND:20261022T213000Z
SUMMARY: Google Gemini Deep Dive Hands-on Bootcamp for CPAs
DESCRIPTION: Google Gemini has emerged as a top leader in the generative AI competition. Due to the extraordinary size of the Google user base\,  every CPA should have a basic understanding of how to use it and apply it in business. This course will provide a comprehensive review and demonstration of how to put Google Gemini AI to work for you and your clients. It is designed as a "hands-on" course that facilitates  following along with the presenter to apply the features  of Gemini on your computer. Practice files will be provided so that you don't have to expose your confidential data.

This event may be a rebroadcast of a live event and the instructor will be available to answer your questions during the event.This course is being offered by a learning partner and will not be accessible on your My CPE page. Access information will be emailed directly to you by CPA Crossings\n 
CLASS:PUBLIC
END:VEVENT
END:VCALENDAR
