BEGIN:VCALENDAR
VERSION:2.0
PRODID:
BEGIN:VEVENT
UID:362022imp
DTSTAMP:20260422T104835Z
DTSTART:20261021T130000Z
DTEND:20261021T150000Z
SUMMARY: Smart Formula Selection in Excel: What to Use When
DESCRIPTION: Excel gives you multiple ways to solve the same problem - but which formula is the right one? This course teaches a decision-based approach to function selection\, helping you confidently choose between similar and competing functions. Through real-world examples and side-by-side comparisons\, you'll learn when IFS or SWITCH is cleaner than nested IFs\, how SUMPRODUCT can help with complex summarizing data\, how to use LET in place of defined names\, and much more. Ideal for professionals who want to make smarter\, faster formula choices that are easier to maintain and audit.

This event may be a rebroadcast of a live event and the instructor will be available to answer your questions during the event.This course is being offered by a learning partner and will not be accessible on your My CPE page. Access information will be emailed directly to you by CPA Crossings\n 
CLASS:PUBLIC
END:VEVENT
END:VCALENDAR
