BEGIN:VCALENDAR
VERSION:2.0
PRODID:
BEGIN:VEVENT
UID:362017imp
DTSTAMP:20260422T225354Z
DTSTART:20261020T210000Z
DTEND:20261020T220000Z
SUMMARY: Executive Presence\, Personal Brand: Structure Your Narrative
DESCRIPTION: Professional credibility is communicated\, not assumed.
In this 1-CPE session (Professional Development)\, participants examine structured approaches to articulating their professional identity. Drawing directly from the course framework\, the session covers development of an elevator pitch\, a professional value proposition\, and a concise executive biography.
Participants will analyze how credibility is established through clarity\, relevance\, and alignment with audience needs. The course emphasizes service-centered communication rather than self-promotion and provides structured guidance for refining professional messaging in leadership and client-facing contexts.

This event may be a rebroadcast of a live event and the instructor will be available to answer your questions during the event.This course is being offered by a learning partner and will not be accessible on your My CPE page. Access information will be emailed directly to you by CPA Crossings\n 
CLASS:PUBLIC
END:VEVENT
END:VCALENDAR
