BEGIN:VCALENDAR
VERSION:2.0
PRODID:
BEGIN:VEVENT
UID:361930imp
DTSTAMP:20260423T162648Z
DTSTART:20261015T143000Z
DTEND:20261015T163000Z
SUMMARY: Finding Errors in Excel Spreadsheets
DESCRIPTION: This intensive two-hour course addresses the critical need for accuracy and efficiency when developing spreadsheets using Microsoft Excel. Recognizing that even minor errors can have significant implications\, this course delves deep into strategies and skills required to detect and correct errors in Excel. By the end of this course\, participants will have a comprehensive understanding of how to efficiently identify and correct errors in Excel spreadsheets\, enhancing their overall productivity and accuracy in their professional roles.

This event may be a rebroadcast of a live event and the instructor will be available to answer your questions during the event.This course is being offered by a learning partner and will not be accessible on your My CPE page. Access information will be emailed directly to you by CPA Crossings\n 
CLASS:PUBLIC
END:VEVENT
END:VCALENDAR
