BEGIN:VCALENDAR
VERSION:2.0
PRODID:
BEGIN:VEVENT
UID:361900imp
DTSTAMP:20260422T105021Z
DTSTART:20261014T133000Z
DTEND:20261014T173000Z
SUMMARY: Seeing Beyond the Numbers: Analysis for CFOs & Controllers
DESCRIPTION: Financial statements are a window into what is going on in the day-to-day operations of the company. They help us see what the company's strengths and weaknesses are. However\, financial statements can often have different messages depending on the user.

This event may be a rebroadcast of a live event and the instructor will be available to answer your questions during the event.This course is being offered by a learning partner and will not be accessible on your My CPE page. Access information will be emailed directly to you by CPA Crossings\n 
CLASS:PUBLIC
END:VEVENT
END:VCALENDAR
