BEGIN:VCALENDAR
VERSION:2.0
PRODID:
BEGIN:VEVENT
UID:361892imp
DTSTAMP:20260423T212856Z
DTSTART:20261013T190000Z
DTEND:20261013T210000Z
SUMMARY: ChatGPT for Accountants: 50+ Use Cases
DESCRIPTION: This course will explore the use of ChatGPT and artificial intelligence chatbot technologies in the accounting profession. Participants will learn how to utilize ChatGPT to automate tasks\, improve efficiency and accuracy\, and provide real-time support to clients.

This event may be a rebroadcast of a live event and the instructor will be available to answer your questions during the event.This course is being offered by a learning partner and will not be accessible on your My CPE page. Access information will be emailed directly to you by CPA Crossings\n 
CLASS:PUBLIC
END:VEVENT
END:VCALENDAR
