BEGIN:VCALENDAR
VERSION:2.0
PRODID:
BEGIN:VEVENT
UID:361737imp
DTSTAMP:20260421T185318Z
DTSTART:20261006T170000Z
DTEND:20261006T210000Z
SUMMARY: Master the Art of CPA Communication: Boost Your Influence!
DESCRIPTION: Discover the communication edge that will take your CPA career to the next level. This comprehensive course empowers CPAs with the tools to enhance clarity\, build trust\, and drive decisions. Learn to transform complex jargon into actionable insights and develop powerful persuasion techniques that resonate with clients and stakeholders. Join me to sharpen your communication skills and elevate your professional impact.

This event may be a rebroadcast of a live event and the instructor will be available to answer your questions during the event.This course is being offered by a learning partner and will not be accessible on your My CPE page. Access information will be emailed directly to you by CPA Crossings\n 
CLASS:PUBLIC
END:VEVENT
END:VCALENDAR
