BEGIN:VCALENDAR
VERSION:2.0
PRODID:
BEGIN:VEVENT
UID:361729imp
DTSTAMP:20260423T090338Z
DTSTART:20261006T133000Z
DTEND:20261006T153000Z
SUMMARY: Making Effective Decisions When You Can't Get What You Want
DESCRIPTION: Even if managers have incomplete information or constraints\, they still must make choices. This session provides advice for navigating rocky decision-making terrain encountered by managers who must make choices despite imperfect information and/or constrained resources. We explore ways to leverage available information to make effective decisions when seemingly critical details cannot be obtained. We also illustrate managerial accounting techniques for optimizing profitability when inputs or resources are constrained by supply chain disruptions or other limitations.

This event may be a rebroadcast of a live event and the instructor will be available to answer your questions during the event.This course is being offered by a learning partner and will not be accessible on your My CPE page. Access information will be emailed directly to you by CPA Crossings\n 
CLASS:PUBLIC
END:VEVENT
END:VCALENDAR
