BEGIN:VCALENDAR
VERSION:2.0
PRODID:
BEGIN:VEVENT
UID:361705imp
DTSTAMP:20260421T231708Z
DTSTART:20261005T140000Z
DTEND:20261005T220000Z
SUMMARY: Building Security and Efficiency With Internal Control
DESCRIPTION: A well-designed internal controls system can and will drive all entity objectives. Too many times control creators focus too much on security. It is important to properly balance protection-based measures with those designed to enhance efficiency. This session works to illustrate the power of a strong and well supported control system. It also discusses steps to take in order to establish such a system. This material is becoming more and more beneficial as companies strive to address many new business challenges such as evolving markets\, the rapid rate of change in the business world and the notable increase in governmental and industry-based regulation. Those that desire a balanced and workplace enhancing control system should strongly consider this session.

This event may be a rebroadcast of a live event and the instructor will be available to answer your questions during the event.This course is being offered by a learning partner and will not be accessible on your My CPE page. Access information will be emailed directly to you by CPA Crossings\n 
CLASS:PUBLIC
END:VEVENT
END:VCALENDAR
