BEGIN:VCALENDAR
VERSION:2.0
PRODID:
BEGIN:VEVENT
UID:361488imp
DTSTAMP:20260422T223801Z
DTSTART:20260923T170000Z
DTEND:20260923T210000Z
SUMMARY: Building a Better Budget in a Time of Uncertainty
DESCRIPTION: Most financial leaders would agree that budgeting is easy when business and the economy are stable. When revenues and expenses are expected to remain the same\, the process becomes merely an exercise in carrying over what was done before to the current year. However\, what happens when we are not sure about how the market will react to our product? What happens when the competitive landscape changes? In this course\, we will discuss budgeting techniques and considerations when business lacks stability. Through a combination of theory and real-world examples\, we will explore how to build flexibility into our budget - so that it can inform and drive decision-making when we don't quite know what is ahead.

This event may be a rebroadcast of a live event and the instructor will be available to answer your questions during the event.This course is being offered by a learning partner and will not be accessible on your My CPE page. Access information will be emailed directly to you by CPA Crossings\n 
CLASS:PUBLIC
END:VEVENT
END:VCALENDAR
