BEGIN:VCALENDAR
VERSION:2.0
PRODID:
BEGIN:VEVENT
UID:361423imp
DTSTAMP:20260423T081126Z
DTSTART:20260918T210000Z
DTEND:20260918T220000Z
SUMMARY: Corporate Finance Technology Selection: Practical Frameworks
DESCRIPTION: Finance technology decisions (ERP\, FP&A\, AP/expense automation\, close/consolidation\, bank integrations\, and AI-enabled tools) can dramatically improve close speed\, forecasting\, and control execution-but vendor demos and "AI" marketing often hide integration complexity\, data readiness gaps\, governance risk\, and long-term total cost. This course provides a practical\, vendor-neutral approach for CPAs and finance leaders to evaluate and implement corporate finance technology with an audit-ready mindset. Participants learn how to cut through AI claims using an AI capability framework\, apply a weighted vendor evaluation scorecard focused on controls and assurance\, build a five-year total cost model that captures hidden and ongoing costs\, and follow an implementation roadmap with checkpoints and red flags to reduce failure risk and improve ROI realization.

This event may be a rebroadcast of a live event and the instructor will be available to answer your questions during the event.This course is being offered by a learning partner and will not be accessible on your My CPE page. Access information will be emailed directly to you by CPA Crossings\n 
CLASS:PUBLIC
END:VEVENT
END:VCALENDAR
