BEGIN:VCALENDAR
VERSION:2.0
PRODID:
BEGIN:VEVENT
UID:361255imp
DTSTAMP:20260422T222013Z
DTSTART:20260911T130000Z
DTEND:20260911T150000Z
SUMMARY: The Current and Future Landscape of Audit Technology
DESCRIPTION: Explore the transformative impact of technology on the audit profession in this forward-looking course. Gain practical insights into cutting-edge tools and trends\, including data analytics\, artificial intelligence (AI)\, and automation\, and discover how these advancements are revolutionizing audit methodologies and improving audit quality. Through engaging demos\, case studies\, and actionable tips\, you'll learn how to navigate the evolving audit landscape with confidence and adaptability. This session is designed to equip CPAs with the knowledge to embrace innovation and stay ahead in a rapidly changing profession.

This event may be a rebroadcast of a live event and the instructor will be available to answer your questions during the event.This course is being offered by a learning partner and will not be accessible on your My CPE page. Access information will be emailed directly to you by CPA Crossings\n 
CLASS:PUBLIC
END:VEVENT
END:VCALENDAR
