BEGIN:VCALENDAR
VERSION:2.0
PRODID:
BEGIN:VEVENT
UID:361227imp
DTSTAMP:20260425T015722Z
DTSTART:20260910T130000Z
DTEND:20260910T210000Z
SUMMARY: Managing Current Fraud Trends in a Shifting Environment
DESCRIPTION: As our business environment shifts\, so do trends with fraud schemes and perpetrators.  This course will give you the absolutely latest information with how to identify and mitigate shifting fraud risks in any entity.

This event may be a rebroadcast of a live event and the instructor will be available to answer your questions during the event.This course is being offered by a learning partner and will not be accessible on your My CPE page. Access information will be emailed directly to you by CPA Crossings\n 
CLASS:PUBLIC
END:VEVENT
END:VCALENDAR
