BEGIN:VCALENDAR
VERSION:2.0
PRODID:
BEGIN:VEVENT
UID:361223imp
DTSTAMP:20260424T123423Z
DTSTART:20260909T193000Z
DTEND:20260909T213000Z
SUMMARY: Cybersecurity: Protecting Your Firm's Data and Reputation
DESCRIPTION: Cybersecurity protection of digital data continues to be a top priority for CPAs. The cyber threats continue to increase and are becoming more sophisticated with the advent of AI technology. The first step is to understand what the primary threats are\, the potential damage they can inflict\, and\, most importantly\, how to mitigate the risks.  This course will prepare you have informed conversations with your IT service providers to ensure  you are employing best practices in cybersecurity protection.

This event may be a rebroadcast of a live event and the instructor will be available to answer your questions during the event.This course is being offered by a learning partner and will not be accessible on your My CPE page. Access information will be emailed directly to you by CPA Crossings\n 
CLASS:PUBLIC
END:VEVENT
END:VCALENDAR
