BEGIN:VCALENDAR
VERSION:2.0
PRODID:
BEGIN:VEVENT
UID:361222imp
DTSTAMP:20260423T234819Z
DTSTART:20260909T190000Z
DTEND:20260909T210000Z
SUMMARY: Hot Topics Audit & Attest Update - 2026
DESCRIPTION: Many public accountants desire to have a quick overview of only the most current changes to professional and ethical requirements.  This course will provide an executive summary of the major changes in audit and other attest requirements.

This event may be a rebroadcast of a live event and the instructor will be available to answer your questions during the event.

This event may be a rebroadcast of a live event and the instructor will be available to answer your questions during the event.This course is being offered by a learning partner and will not be accessible on your My CPE page. Access information will be emailed directly to you by CPA Crossings\n 
CLASS:PUBLIC
END:VEVENT
END:VCALENDAR
