BEGIN:VCALENDAR
VERSION:2.0
PRODID:
BEGIN:VEVENT
UID:361215imp
DTSTAMP:20260424T111640Z
DTSTART:20260909T170000Z
DTEND:20260909T210000Z
SUMMARY: The Role of Internal Control in the Risk-Based Audit
DESCRIPTION: This program addresses the role of client internal controls for balancing efficiency and effectiveness in a risk-based audit. Practical insights regarding an auditor's assessment of the risk of material misstatement when auditing financial statements of non-issuers will be explored\, with particular emphasis on internal controls of small-to-medium clients.  This event may be a rebroadcast of a live event and the instructor will be available to answer your questions during the event.

This event may be a rebroadcast of a live event and the instructor will be available for your questions during the event.This course is being offered by a learning partner and will not be accessible on your My CPE page. Access information will be emailed directly to you by CPA Crossings\n 
CLASS:PUBLIC
END:VEVENT
END:VCALENDAR
