BEGIN:VCALENDAR
VERSION:2.0
PRODID:
BEGIN:VEVENT
UID:361162imp
DTSTAMP:20260422T223359Z
DTSTART:20260904T170000Z
DTEND:20260904T210000Z
SUMMARY: Common Deficiencies in SSARS Engagements
DESCRIPTION: Preparation\, compilation\, and review engagements continue to receive heightened attention in peer review\, even years after the issuance of SSARS No. 21. This course examines the most common deficiencies identified in peer reviews of SSARS engagements\, with an emphasis on practical compliance and engagement quality.

Participants will explore frequent problem areas in preparation\, compilation\, and review engagements and discuss why these deficiencies occur. The course focuses on understanding the root causes of noncompliance\, rather than simply listing technical errors\, and highlights practical approaches firms can use to improve consistency\, documentation\, and overall engagement performance.

Designed for practitioners performing SSARS engagements\, this course helps participants strengthen compliance while maintaining an efficient and practical approach to engagement execution.

This event may be a rebroadcast of a live event and the instructor will be available to answer your questions during the event.This course is being offered by a learning partner and will not be accessible on your My CPE page. Access information will be emailed directly to you by CPA Crossings\n 
CLASS:PUBLIC
END:VEVENT
END:VCALENDAR
