BEGIN:VCALENDAR
VERSION:2.0
PRODID:
BEGIN:VEVENT
UID:361083imp
DTSTAMP:20260423T062822Z
DTSTART:20260901T163000Z
DTEND:20260901T183000Z
SUMMARY: Partnership/LLC Taxation: Tax Basis Capital Accounts
DESCRIPTION: This program addresses the most recent developments impacting partnerships operating as LLCs\, with a focus on legislative\, administrative\, and tax form changes.  Emphasis will be placed on partners "tax basis" capital accounts\, now required for tax form reporting.

This event may be a rebroadcast of a live event and the instructor will be available to answer your questions during the event.This course is being offered by a learning partner and will not be accessible on your My CPE page. Access information will be emailed directly to you by CPA Crossings\n 
CLASS:PUBLIC
END:VEVENT
END:VCALENDAR
