BEGIN:VCALENDAR
VERSION:2.0
PRODID:
BEGIN:VEVENT
UID:361028imp
DTSTAMP:20260422T011620Z
DTSTART:20260829T153000Z
DTEND:20260829T173000Z
SUMMARY: ChatGPT and Advanced Financial Analysis for Accountants
DESCRIPTION: This course provides a concise overview of how to utilize ChatGPT for advanced financial analysis in accounting. The session reveals how to combine sophisticated evaluation and interpretation of financial data with the cutting-edge AI capabilities of ChatGPT. Aimed at enhancing the understanding of an entity's performance\, predicting future financial health\, and aiding in informed business decision-making\, this course goes beyond basic financial statement analysis to include a wide array of techniques and tools.

This event may be a rebroadcast of a live event and the instructor will be available to answer your questions during the event.This course is being offered by a learning partner and will not be accessible on your My CPE page. Access information will be emailed directly to you by CPA Crossings\n 
CLASS:PUBLIC
END:VEVENT
END:VCALENDAR
