BEGIN:VCALENDAR
VERSION:2.0
PRODID:
BEGIN:VEVENT
UID:360913imp
DTSTAMP:20260423T082641Z
DTSTART:20260824T180000Z
DTEND:20260824T220000Z
SUMMARY: Managerial Accounting: Your Prescription for Better Decision
DESCRIPTION: This session revisits useful\, but potentially underutilized\, managerial accounting techniques. You will appreciate a fresh look at concepts you may not have considered since your college days. We will illustrate practical ways you can immediately implement managerial accounting analysis in your professional endeavors. 

This event may be a rebroadcast of a live event and the instructor will be available to answer your questions during the event.This course is being offered by a learning partner and will not be accessible on your My CPE page. Access information will be emailed directly to you by CPA Crossings\n 
CLASS:PUBLIC
END:VEVENT
END:VCALENDAR
