BEGIN:VCALENDAR
VERSION:2.0
PRODID:
BEGIN:VEVENT
UID:360828imp
DTSTAMP:20260423T053904Z
DTSTART:20260819T153000Z
DTEND:20260819T173000Z
SUMMARY: Mastering the Excel Lookup Functions
DESCRIPTION: In today's data-driven world\, Microsoft Excel has become an essential tool for professionals in any organization. To harness the full potential of Excel\, it is crucial to understand and master its lookup functions. This course is designed to equip participants with the knowledge and skills needed to effectively utilize Excel's lookup functions and enhance their data analysis capabilities.

Throughout this comprehensive course\, participants will dive deep into the world of lookup functions and gain experience through practical exercises and real-world scenarios. Whether you're a seasoned Excel user looking to fine-tune your skills or a beginner eager to unlock Excel's full potential\, this course is tailored to meet your learning needs.

This event may be a rebroadcast of a live event and the instructor will be available to answer your questions during the event.This course is being offered by a learning partner and will not be accessible on your My CPE page. Access information will be emailed directly to you by CPA Crossings\n 
CLASS:PUBLIC
END:VEVENT
END:VCALENDAR
