BEGIN:VCALENDAR
VERSION:2.0
PRODID:
BEGIN:VEVENT
UID:360749imp
DTSTAMP:20260422T222043Z
DTSTART:20260814T140000Z
DTEND:20260814T160000Z
SUMMARY: AI 101 for CPAs: Core Concepts and Practical Applications
DESCRIPTION: New to AI? Start here. This beginner-friendly course explains how generative AI works\, what terms like "LLM" and "agentic AI" really mean\, and how CPAs can safely put these tools to use. You'll leave with a solid understanding of AI fundamentals and how they apply to accounting\, tax\, and finance.

This event may be a rebroadcast of a live event and the instructor will be available to answer your questions during the event.This course is being offered by a learning partner and will not be accessible on your My CPE page. Access information will be emailed directly to you by CPA Crossings\n 
CLASS:PUBLIC
END:VEVENT
END:VCALENDAR
