BEGIN:VCALENDAR
VERSION:2.0
PRODID:
BEGIN:VEVENT
UID:360734imp
DTSTAMP:20260423T042157Z
DTSTART:20260813T180000Z
DTEND:20260813T220000Z
SUMMARY: 2024 Revision to Government Auditing Standards Impact
DESCRIPTION: This course will provide an update of Government Auditing Standards as a result of the GAO's issuance of the 2024 Revision to Government Auditing Standards.  The  course will focus on the Revisions impact on financial statement audits.  The course will also focus on the impact of Quality Management Standards  as well as clarify as to when the concept of reporting key audit matters might apply for financial audits.

This event may be a rebroadcast of a live event and the instructor will be available to answer your questions during the event.This course is being offered by a learning partner and will not be accessible on your My CPE page. Access information will be emailed directly to you by CPA Crossings\n 
CLASS:PUBLIC
END:VEVENT
END:VCALENDAR
