BEGIN:VCALENDAR
VERSION:2.0
PRODID:
BEGIN:VEVENT
UID:360705imp
DTSTAMP:20260422T093001Z
DTSTART:20260812T180000Z
DTEND:20260812T220000Z
SUMMARY: Fundamentals of Form 1040 -- Individual
DESCRIPTION: This course introduces professionals to the fundamentals of individual tax preparation.  Participants will learn the essentials of Form 1040\, including filing requirements\, income reporting\, and deductions.  The session will also cover preparer responsibilities\, due diligence\, and taxpayer rights under Circular 230.  By the end\, attendees will have a solid understanding of the foundation of personal tax returns. 

This event may be a rebroadcast of a live event and the instructor will be available to answer your questions during the event.This course is being offered by a learning partner and will not be accessible on your My CPE page. Access information will be emailed directly to you by CPA Crossings\n 
CLASS:PUBLIC
END:VEVENT
END:VCALENDAR
