BEGIN:VCALENDAR
VERSION:2.0
PRODID:
BEGIN:VEVENT
UID:360699imp
DTSTAMP:20260422T080122Z
DTSTART:20260812T163000Z
DTEND:20260812T183000Z
SUMMARY: What You Can Learn From the Statement of Cash Flows
DESCRIPTION: This course allows you to get reacquainted with the statement of cash flows. We will refresh your skills regarding both the preparation and utilization of the statement of cash flows. Significant emphasis will be placed on the informational role of the statement of cash flows and insights that can be obtained using the statement of cash flows in concert with the other elements of a company's accrual-basis financial statements.

This event may be a rebroadcast of a live event and the instructor will be available to answer your questions during the event.This course is being offered by a learning partner and will not be accessible on your My CPE page. Access information will be emailed directly to you by CPA Crossings\n 
CLASS:PUBLIC
END:VEVENT
END:VCALENDAR
