BEGIN:VCALENDAR
VERSION:2.0
PRODID:
BEGIN:VEVENT
UID:360578imp
DTSTAMP:20260423T204242Z
DTSTART:20260806T140000Z
DTEND:20260806T160000Z
SUMMARY: Microsoft Teams for CPAs: Unlocking Its Full Potential
DESCRIPTION: Microsoft Teams is designed to be the foundation of your Microsoft 365 ecosystem deployment. When deployed effectively\, Teams can serve as a powerful platform for communication\, collaboration\, and knowledge sharing across your firm or business. Unfortunately\, most organizations are substantially underutilizing the capabilities of Teams. This course provides a review and demonstration of the key features of Microsoft Teams that you can harness to optimize the return on your Microsoft 365 investment.

This event may be a rebroadcast of a live event and the instructor will be available to answer your questions during the event.This course is being offered by a learning partner and will not be accessible on your My CPE page. Access information will be emailed directly to you by CPA Crossings\n 
CLASS:PUBLIC
END:VEVENT
END:VCALENDAR
