BEGIN:VCALENDAR
VERSION:2.0
PRODID:
BEGIN:VEVENT
UID:360557imp
DTSTAMP:20260423T041229Z
DTSTART:20260805T160000Z
DTEND:20260805T180000Z
SUMMARY: Hot Topics Accounting Update - 2026
DESCRIPTION: Many accountants desire to have a quick overview of only the most current issues in accounting and financial reporting.  This course will provide an executive summary of the most important changes in U.S. GAAP.

This event may be a rebroadcast of a live event and the instructor will be available to answer your questions during the event.This course is being offered by a learning partner and will not be accessible on your My CPE page. Access information will be emailed directly to you by CPA Crossings\n 
CLASS:PUBLIC
END:VEVENT
END:VCALENDAR
