BEGIN:VCALENDAR
VERSION:2.0
PRODID:
BEGIN:VEVENT
UID:360540imp
DTSTAMP:20260423T024810Z
DTSTART:20260804T190000Z
DTEND:20260804T210000Z
SUMMARY: Best Practices: Conducting Meaningful Walkthroughs
DESCRIPTION: This course will serve as an introduction to conducting effective walkthroughs to gain an understanding of the client's transaction processes as well as identifying internal controls within each process. This course will review the procedures\, questions to ask\, and documentation requirements of walkthroughs. It will also include real-world examples of the red flags that may arise while executing a walkthrough. 

This event may be a rebroadcast of a live event and the instructor will be available to answer your questions during the event.This course is being offered by a learning partner and will not be accessible on your My CPE page. Access information will be emailed directly to you by CPA Crossings\n 
CLASS:PUBLIC
END:VEVENT
END:VCALENDAR
