BEGIN:VCALENDAR
VERSION:2.0
PRODID:
BEGIN:VEVENT
UID:360529imp
DTSTAMP:20260423T013223Z
DTSTART:20260804T153000Z
DTEND:20260804T173000Z
SUMMARY: Introduction to Governmental Budgeting
DESCRIPTION: The introduction to governmental budgeting course is an overview of the typical timeline and process a government uses when creating their annual budget. Topics covered include the basics of governmental budgeting\, establishing priorities for the budget\, the common steps and timeline of the budget process\, what\, when and how we should be monitoring the budget throughout the year\, and how long-term budgets fit in with the annual budget process.

This event may be a rebroadcast of a live event and the instructor will be available to answer your questions during the event.This course is being offered by a learning partner and will not be accessible on your My CPE page. Access information will be emailed directly to you by CPA Crossings\n 
CLASS:PUBLIC
END:VEVENT
END:VCALENDAR
