BEGIN:VCALENDAR
VERSION:2.0
PRODID:
BEGIN:VEVENT
UID:360468imp
DTSTAMP:20260423T113319Z
DTSTART:20260731T150000Z
DTEND:20260731T170000Z
SUMMARY: Analyzing Financial Statements
DESCRIPTION: This course provides tools and insights into financial statement analysis - both quantitative and qualitative. We'll look not only at the three main financial statements but also dive into the MD&A and footnotes. We'll also discuss the affect of industry nuances on comparability of different analysis tools.

This event may be a rebroadcast of a live event and the instructor will be available to answer your questions during the event.This course is being offered by a learning partner and will not be accessible on your My CPE page. Access information will be emailed directly to you by CPA Crossings\n 
CLASS:PUBLIC
END:VEVENT
END:VCALENDAR
